BEGIN:VCALENDAR
VERSION:2.0
PRODID:-//www.clcnwi.com//NONSGML kigkonsult.se iCalcreator 2.30.10//
CALSCALE:GREGORIAN
METHOD:PUBLISH
UID:70d36511-e880-421d-81e4-e59933cdecf8
X-WR-CALDESC:To celebrate National Astronomy Day AND Earth Day Challenger i
 s hosting a family-friendly SCIENCE open house featuring hands-on activiti
 es for kids of all ages! Learn how to be a better steward of our Earth as 
 well as other relevant astronomy topics\, all through easy interactive act
 ivities that spark your child's interest in science\, engineering and more
 ! Throughout the day we will run Planetarium shows every 15 minutes. \n\nS
 pecial thanks to our Partners in Education\, ArcelorMittal.
X-WR-RELCALID:35dbba10cbdc7db7e4207eb4fa6ee5f9
X-WR-TIMEZONE:America/Chicago
BEGIN:VTIMEZONE
TZID:America/Chicago
BEGIN:STANDARD
TZNAME:CST
DTSTART:20191103T020000
TZOFFSETFROM:-0500
TZOFFSETTO:-0600
RDATE:20201101T020000
END:STANDARD
BEGIN:DAYLIGHT
TZNAME:CDT
DTSTART:20200308T020000
TZOFFSETFROM:-0600
TZOFFSETTO:-0500
RDATE:20210314T020000
END:DAYLIGHT
END:VTIMEZONE
BEGIN:VEVENT
UID:83eef5b6-7b3a-4fc9-9c9e-24bcc4593e59
DTSTAMP:20260421T060236Z
DESCRIPTION:To celebrate National Astronomy Day AND Earth Day Challenger is
  hosting a family-friendly SCIENCE open house featuring hands-on activitie
 s for kids of all ages! Learn how to be a better steward of our Earth as w
 ell as other relevant astronomy topics\, all through easy interactive acti
 vities that spark your child's interest in science\, engineering and more!
  Throughout the day we will run Planetarium shows every 15 minutes. \n\nSp
 ecial thanks to our Partners in Education\, ArcelorMittal.
DTSTART;TZID=America/Chicago:20200425T100000
DTEND;TZID=America/Chicago:20200425T140000
LOCATION:
SUMMARY:Earth\, Sea & Sky Day 2020
END:VEVENT
END:VCALENDAR
