BEGIN:VCALENDAR
VERSION:2.0
PRODID:-//www.clcnwi.com//NONSGML kigkonsult.se iCalcreator 2.30.10//
CALSCALE:GREGORIAN
METHOD:PUBLISH
UID:4f59b2d3-a06b-439e-8205-5b5cac76d950
X-WR-CALDESC:The learning continues through spring break!  Come and enjoy a
  brief tour of our Challenger Center as well as a special spring planetari
 um show this Thursday and Friday only!\n\n-General admission is $5 per per
 son\n-Shows are around 1 hour long\n-Pre-register online\, or pay at the d
 oor day of
X-WR-RELCALID:dc927e060e75a0b46ec8f6d99fa0d357
X-WR-TIMEZONE:America/Chicago
BEGIN:VTIMEZONE
TZID:America/Chicago
BEGIN:STANDARD
TZNAME:CST
DTSTART:20181104T020000
TZOFFSETFROM:-0500
TZOFFSETTO:-0600
RDATE:20191103T020000
END:STANDARD
BEGIN:DAYLIGHT
TZNAME:CDT
DTSTART:20190310T020000
TZOFFSETFROM:-0600
TZOFFSETTO:-0500
RDATE:20200308T020000
END:DAYLIGHT
END:VTIMEZONE
BEGIN:VEVENT
UID:36961fc1-22fd-45c6-bab8-f42d7c66c50d
DTSTAMP:20260419T192954Z
DESCRIPTION:The learning continues through spring break!  Come and enjoy a 
 brief tour of our Challenger Center as well as a special spring planetariu
 m show this Thursday and Friday only!\n\n-General admission is $5 per pers
 on\n-Shows are around 1 hour long\n-Pre-register online\, or pay at the do
 or day of
DTSTART;TZID=America/Chicago:20190329T130000
DTEND;TZID=America/Chicago:20190329T140000
LOCATION:
SUMMARY:Friday\, Spring Break Pop-up Planetarium Program
END:VEVENT
END:VCALENDAR
