BEGIN:VCALENDAR
VERSION:2.0
PRODID:-//www.clcnwi.com//NONSGML kigkonsult.se iCalcreator 2.30.10//
CALSCALE:GREGORIAN
METHOD:PUBLISH
UID:b7455807-1c41-4fd4-8da2-de0f4fe8beb2
X-WR-CALDESC:Join us as we celebrate the launch of NASA's Artemis 2 this Fe
 bruary!\n\nMonday\, February 16th\, 2026\n10 AM - 12 PM\n2 Programs:\n-Lun
 ar Science Lab (Grades 2 - 4) - Investigate the Moon and all its mysteries
  with hands-on lunar experiments & activities.\n-Lunar Quest Mission (Grad
 es 5 - 8) - Blast off on an immersive simulated mission to the Lunar surfa
 ce.\n\nStandby Pass is good for:\n*Parents/Guardians and any siblings wait
 ing for program to conclude\n*Includes Exclusive Planetarium Show & Relaxi
 ng waiting area\n*Does NOT include full access to student programs\, but a
 dults will have a chance to view ongoing programs
X-WR-RELCALID:bf1ba19ac320af5c52ea12d028badf61
X-WR-TIMEZONE:America/Chicago
BEGIN:VTIMEZONE
TZID:America/Chicago
BEGIN:STANDARD
TZNAME:CST
DTSTART:20251102T020000
TZOFFSETFROM:-0500
TZOFFSETTO:-0600
RDATE:20261101T020000
END:STANDARD
BEGIN:DAYLIGHT
TZNAME:CDT
DTSTART:20250309T020000
TZOFFSETFROM:-0600
TZOFFSETTO:-0500
RDATE:20260308T020000
RDATE:20270314T020000
END:DAYLIGHT
END:VTIMEZONE
BEGIN:VEVENT
UID:b44fc734-a767-43a9-a7de-55f4dff4f936
DTSTAMP:20260420T081947Z
DESCRIPTION:Join us as we celebrate the launch of NASA's Artemis 2 this Feb
 ruary!\n\nMonday\, February 16th\, 2026\n10 AM - 12 PM\n2 Programs:\n-Luna
 r Science Lab (Grades 2 - 4) - Investigate the Moon and all its mysteries 
 with hands-on lunar experiments & activities.\n-Lunar Quest Mission (Grade
 s 5 - 8) - Blast off on an immersive simulated mission to the Lunar surfac
 e.\n\nStandby Pass is good for:\n*Parents/Guardians and any siblings waiti
 ng for program to conclude\n*Includes Exclusive Planetarium Show & Relaxin
 g waiting area\n*Does NOT include full access to student programs\, but ad
 ults will have a chance to view ongoing programs
DTSTART;TZID=America/Chicago:20260216T100000
DTEND;TZID=America/Chicago:20260216T120000
LOCATION:2300 173rd Street\, Hammond\, IN 46323 US
SUMMARY:SOLD OUT Lunar Science Lab (Grades 2 - 4)
END:VEVENT
END:VCALENDAR
