BEGIN:VCALENDAR
VERSION:2.0
PRODID:-//www.clcnwi.com//NONSGML kigkonsult.se iCalcreator 2.30.10//
CALSCALE:GREGORIAN
METHOD:PUBLISH
UID:55d63410-f7e5-43e3-9e0e-2859926e52e7
X-WR-CALDESC:
X-WR-RELCALID:2b59a5e800bf58e3ae0779e14f780fba
X-WR-TIMEZONE:America/Chicago
BEGIN:VTIMEZONE
TZID:America/Chicago
BEGIN:STANDARD
TZNAME:CST
DTSTART:20231105T020000
TZOFFSETFROM:-0500
TZOFFSETTO:-0600
RDATE:20241103T020000
RDATE:20251102T020000
END:STANDARD
BEGIN:DAYLIGHT
TZNAME:CDT
DTSTART:20240310T020000
TZOFFSETFROM:-0600
TZOFFSETTO:-0500
RDATE:20250309T020000
END:DAYLIGHT
END:VTIMEZONE
BEGIN:VEVENT
UID:b90b8545-1332-4ba7-97ef-b229f70998e2
DTSTAMP:20260420T040716Z
DESCRIPTION:
DTSTART;TZID=America/Chicago:20240620T130000
DTEND;TZID=America/Chicago:20240620T150000
LOCATION:2300 173rd Street\, Hammond\, IN 46323 US
SUMMARY:Weather Watchers Pop Up Summer Camp 1 pm
END:VEVENT
END:VCALENDAR
