BEGIN:VCALENDAR
VERSION:2.0
PRODID:-//www.clcnwi.com//NONSGML kigkonsult.se iCalcreator 2.30.10//
CALSCALE:GREGORIAN
METHOD:PUBLISH
UID:047aadfc-1ad3-4fd1-8297-0055c233ea63
X-WR-CALDESC:
X-WR-RELCALID:60b303130dd3c492e885fd744f1d84c7
X-WR-TIMEZONE:America/Chicago
BEGIN:VTIMEZONE
TZID:America/Chicago
BEGIN:STANDARD
TZNAME:CST
DTSTART:20231105T020000
TZOFFSETFROM:-0500
TZOFFSETTO:-0600
RDATE:20241103T020000
RDATE:20251102T020000
END:STANDARD
BEGIN:DAYLIGHT
TZNAME:CDT
DTSTART:20240310T020000
TZOFFSETFROM:-0600
TZOFFSETTO:-0500
RDATE:20250309T020000
END:DAYLIGHT
END:VTIMEZONE
BEGIN:VEVENT
UID:ff3430a9-9f7d-4acc-b332-1b74bf7b5c0c
DTSTAMP:20260420T040922Z
DESCRIPTION:
DTSTART;TZID=America/Chicago:20240603T100000
DTEND;TZID=America/Chicago:20240603T120000
LOCATION:2300 173rd Street\, Hammond\, IN 46323 US
SUMMARY:Energy Lab Pop Up Summer Camp 10 am
END:VEVENT
END:VCALENDAR
