BEGIN:VCALENDAR
VERSION:2.0
PRODID:-//www.clcnwi.com//NONSGML kigkonsult.se iCalcreator 2.30.10//
CALSCALE:GREGORIAN
METHOD:PUBLISH
UID:edddc9db-714b-4949-8f60-2b318ea0f6c5
X-WR-CALDESC:
X-WR-RELCALID:4244a20762ad8327e7210b9710b16a7b
X-WR-TIMEZONE:America/Chicago
BEGIN:VTIMEZONE
TZID:America/Chicago
BEGIN:STANDARD
TZNAME:CST
DTSTART:20231105T020000
TZOFFSETFROM:-0500
TZOFFSETTO:-0600
RDATE:20241103T020000
RDATE:20251102T020000
END:STANDARD
BEGIN:DAYLIGHT
TZNAME:CDT
DTSTART:20240310T020000
TZOFFSETFROM:-0600
TZOFFSETTO:-0500
RDATE:20250309T020000
END:DAYLIGHT
END:VTIMEZONE
BEGIN:VEVENT
UID:11b8197b-fe52-4f07-87fb-28d712acc2d3
DTSTAMP:20260420T042903Z
DESCRIPTION:
DTSTART;TZID=America/Chicago:20240603T130000
DTEND;TZID=America/Chicago:20240603T150000
LOCATION:2300 173rd Street\, Hammond\, IN 46323 US
SUMMARY:Energy Lab Pop Up Summer Camp 1 pm
END:VEVENT
END:VCALENDAR
