BEGIN:VCALENDAR
VERSION:2.0
PRODID:-//www.clcnwi.com//NONSGML kigkonsult.se iCalcreator 2.30.10//
CALSCALE:GREGORIAN
METHOD:PUBLISH
UID:04daa8ad-1eda-40ca-90ff-92950531310b
X-WR-CALDESC:Mash up of May the Fourth (Star Wars Day) & Cinco de Mayo!  Co
 mbining our love for all things Star Wars and tacos!  Event includes:\n\nE
 vening Timed 5K + non-timed 2K!\nFinisher Medals for FIRST 100 to sign up!
 \nTaco truck and space themed freeze dried candy available afterwards!\n'B
 est Costume' Awards\nRace Awards for Top Overall & Top 3 in each Age Group
 .\nSupporting Challenger Learning Center of NWI.\nCourse: Night time run a
 long the roads and wooded trails of the Fairgrounds.\n\nCOST thru 5/2:  5K
 : $25 Adults\, $20 Kids 12 & under.  Non-timed 5K/2K:  $20 all ages.  Afte
 r  5/2: $30 all ages all events.  Shirts extra $16 thru 4/22 & not include
 d in the entry fee.
X-WR-RELCALID:9fbe09d35fd2ada3876fe393b6dccb70
X-WR-TIMEZONE:America/Chicago
BEGIN:VTIMEZONE
TZID:America/Chicago
BEGIN:STANDARD
TZNAME:CST
DTSTART:20231105T020000
TZOFFSETFROM:-0500
TZOFFSETTO:-0600
RDATE:20241103T020000
RDATE:20251102T020000
END:STANDARD
BEGIN:DAYLIGHT
TZNAME:CDT
DTSTART:20240310T020000
TZOFFSETFROM:-0600
TZOFFSETTO:-0500
RDATE:20250309T020000
END:DAYLIGHT
END:VTIMEZONE
BEGIN:VEVENT
UID:9597dfb3-77a0-4f20-b6b9-19de056b2ef7
DTSTAMP:20260420T021704Z
DESCRIPTION:Mash up of May the Fourth (Star Wars Day) & Cinco de Mayo!  Com
 bining our love for all things Star Wars and tacos!  Event includes:\n\nEv
 ening Timed 5K + non-timed 2K!\nFinisher Medals for FIRST 100 to sign up!
 \nTaco truck and space themed freeze dried candy available afterwards!\n'B
 est Costume' Awards\nRace Awards for Top Overall & Top 3 in each Age Group
 .\nSupporting Challenger Learning Center of NWI.\nCourse: Night time run a
 long the roads and wooded trails of the Fairgrounds.\n\nCOST thru 5/2:  5K
 : $25 Adults\, $20 Kids 12 & under.  Non-timed 5K/2K:  $20 all ages.  Afte
 r  5/2: $30 all ages all events.  Shirts extra $16 thru 4/22 & not include
 d in the entry fee.
DTSTART;TZID=America/Chicago:20240504T190000
DTEND;TZID=America/Chicago:20240504T210000
LOCATION:899-857 Lake St\, Crown Point\, IN 46307 US
SUMMARY:Taco Bout Star Wars 5K/2K
END:VEVENT
END:VCALENDAR
