BEGIN:VCALENDAR
VERSION:2.0
PRODID:-//www.clcnwi.com//NONSGML kigkonsult.se iCalcreator 2.30.10//
CALSCALE:GREGORIAN
METHOD:PUBLISH
UID:61888abd-7431-42d3-93f7-618d7020dd8d
X-WR-CALDESC:
X-WR-RELCALID:b8b84609c0e12a89c0ebde0e9a6d7a28
X-WR-TIMEZONE:America/Chicago
BEGIN:VTIMEZONE
TZID:America/Chicago
BEGIN:STANDARD
TZNAME:CST
DTSTART:20231105T020000
TZOFFSETFROM:-0500
TZOFFSETTO:-0600
RDATE:20241103T020000
END:STANDARD
BEGIN:DAYLIGHT
TZNAME:CDT
DTSTART:20240310T020000
TZOFFSETFROM:-0600
TZOFFSETTO:-0500
RDATE:20250309T020000
END:DAYLIGHT
END:VTIMEZONE
BEGIN:VEVENT
UID:7b4fea58-da80-468c-8cf2-623bda293ac1
DTSTAMP:20260420T040354Z
DESCRIPTION:
DTSTART;TZID=America/Chicago:20240420T110000
DTEND;TZID=America/Chicago:20240420T140000
LOCATION:2300 173rd Street\, Hammond\, IN 46323 US
SUMMARY:Earth\, Sea & Sky Day
END:VEVENT
END:VCALENDAR
