BEGIN:VCALENDAR
VERSION:2.0
PRODID:-//www.clcnwi.com//NONSGML kigkonsult.se iCalcreator 2.30.10//
CALSCALE:GREGORIAN
METHOD:PUBLISH
UID:f155dc7e-f1e9-4b17-9b6f-d62ef96d7b18
X-WR-CALDESC:Learn more about the Moon\, Sun\, and Earth connection before 
 April 8th's Total Solar Eclipse with one of our educational and entertaini
 ng planetarium shows!\n\nApril 1st\, 2024\n$15 per person\n1 hour programs
  starting every hour\n*Note: Children must be accompanied by an adult\n**D
 ark Side of the Moon laser light show is designed for mature audiences\, s
 o some visuals may be too intense for young viewers**
X-WR-RELCALID:7af565fd059810d59490c27067301e61
X-WR-TIMEZONE:America/Chicago
BEGIN:VTIMEZONE
TZID:America/Chicago
BEGIN:STANDARD
TZNAME:CST
DTSTART:20231105T020000
TZOFFSETFROM:-0500
TZOFFSETTO:-0600
RDATE:20241103T020000
END:STANDARD
BEGIN:DAYLIGHT
TZNAME:CDT
DTSTART:20240310T020000
TZOFFSETFROM:-0600
TZOFFSETTO:-0500
RDATE:20250309T020000
END:DAYLIGHT
END:VTIMEZONE
BEGIN:VEVENT
UID:7aedb077-b0cc-4531-9564-c1f2a77edec8
DTSTAMP:20260420T042011Z
DESCRIPTION:Learn more about the Moon\, Sun\, and Earth connection before A
 pril 8th's Total Solar Eclipse with one of our educational and entertainin
 g planetarium shows!\n\nApril 1st\, 2024\n$15 per person\n1 hour programs 
 starting every hour\n*Note: Children must be accompanied by an adult\n**Da
 rk Side of the Moon laser light show is designed for mature audiences\, so
  some visuals may be too intense for young viewers**
DTSTART;TZID=America/Chicago:20240401T100000
DTEND;TZID=America/Chicago:20240401T110000
LOCATION:2300 173rd Street\, Hammond\, IN 46323 US
SUMMARY:Solar Eclipse Shows - One World\, One Sky
END:VEVENT
END:VCALENDAR
