BEGIN:VCALENDAR
VERSION:2.0
PRODID:-//www.clcnwi.com//NONSGML kigkonsult.se iCalcreator 2.30.10//
CALSCALE:GREGORIAN
METHOD:PUBLISH
UID:bc744bba-5584-46d4-829c-65ac53a24ce9
X-WR-CALDESC:Learn more about the Moon\, Sun\, and Earth connection before 
 April 8th's Total Solar Eclipse with one of our educational and entertaini
 ng planetarium shows!\n\nApril 1st\, 2024\n$15 per person\n1 hour programs
  starting every hour\n*Note: Children must be accompanied by an adult\n**D
 ark Side of the Moon laser light show is designed for mature audiences\, s
 o some visuals may be too intense for young viewers**
X-WR-RELCALID:70af4342f917f16f5e5e4f4a0d35cc90
X-WR-TIMEZONE:America/Chicago
BEGIN:VTIMEZONE
TZID:America/Chicago
BEGIN:STANDARD
TZNAME:CST
DTSTART:20231105T020000
TZOFFSETFROM:-0500
TZOFFSETTO:-0600
RDATE:20241103T020000
END:STANDARD
BEGIN:DAYLIGHT
TZNAME:CDT
DTSTART:20240310T020000
TZOFFSETFROM:-0600
TZOFFSETTO:-0500
RDATE:20250309T020000
END:DAYLIGHT
END:VTIMEZONE
BEGIN:VEVENT
UID:95f591f5-dc9f-4053-871e-d08544c9af03
DTSTAMP:20260420T041210Z
DESCRIPTION:Learn more about the Moon\, Sun\, and Earth connection before A
 pril 8th's Total Solar Eclipse with one of our educational and entertainin
 g planetarium shows!\n\nApril 1st\, 2024\n$15 per person\n1 hour programs 
 starting every hour\n*Note: Children must be accompanied by an adult\n**Da
 rk Side of the Moon laser light show is designed for mature audiences\, so
  some visuals may be too intense for young viewers**
DTSTART;TZID=America/Chicago:20240401T110000
DTEND;TZID=America/Chicago:20240401T120000
LOCATION:2300 173rd Street\, Hammond\, IN 46323 US
SUMMARY:Solar Eclipse Shows - Earth\, Moon\, and Sun
END:VEVENT
END:VCALENDAR
