BEGIN:VCALENDAR
VERSION:2.0
PRODID:-//www.clcnwi.com//NONSGML kigkonsult.se iCalcreator 2.30.10//
CALSCALE:GREGORIAN
METHOD:PUBLISH
UID:f9ee899e-e4e1-43ae-816f-81881a97bf0f
X-WR-CALDESC:
X-WR-RELCALID:aa2ac8392c0c142f600930de5266a206
X-WR-TIMEZONE:America/Chicago
BEGIN:VTIMEZONE
TZID:America/Chicago
BEGIN:STANDARD
TZNAME:CST
DTSTART:20231105T020000
TZOFFSETFROM:-0500
TZOFFSETTO:-0600
RDATE:20241103T020000
END:STANDARD
BEGIN:DAYLIGHT
TZNAME:CDT
DTSTART:20240310T020000
TZOFFSETFROM:-0600
TZOFFSETTO:-0500
RDATE:20250309T020000
END:DAYLIGHT
END:VTIMEZONE
BEGIN:VEVENT
UID:409888f0-abbf-4518-9bc1-11c24d759c05
DTSTAMP:20260420T060336Z
DESCRIPTION:
DTSTART;TZID=America/Chicago:20240329T100000
DTEND;TZID=America/Chicago:20240329T140000
LOCATION:2300 173rd Street\, Hammond\, IN 46323 US
SUMMARY:Spring Break Solar Eclipse Day
END:VEVENT
END:VCALENDAR
