BEGIN:VCALENDAR
VERSION:2.0
PRODID:-//www.clcnwi.com//NONSGML kigkonsult.se iCalcreator 2.30.10//
CALSCALE:GREGORIAN
METHOD:PUBLISH
UID:00e5bb42-efe6-49c3-a37c-877c01d4ce1c
X-WR-CALDESC:
X-WR-RELCALID:8dd725bde766ad98114415c134dcb917
X-WR-TIMEZONE:America/Chicago
BEGIN:VTIMEZONE
TZID:America/Chicago
BEGIN:STANDARD
TZNAME:CST
DTSTART:20231105T020000
TZOFFSETFROM:-0500
TZOFFSETTO:-0600
RDATE:20241103T020000
END:STANDARD
BEGIN:DAYLIGHT
TZNAME:CDT
DTSTART:20230312T020000
TZOFFSETFROM:-0600
TZOFFSETTO:-0500
RDATE:20240310T020000
RDATE:20250309T020000
END:DAYLIGHT
END:VTIMEZONE
BEGIN:VEVENT
UID:7caca7f5-30d6-406f-b204-93b79d260043
DTSTAMP:20260420T074223Z
DESCRIPTION:
DTSTART;TZID=America/Chicago:20240210T170000
DTEND;TZID=America/Chicago:20240210T203000
LOCATION:2300 173rd Street\, Hammond\, IN 46323 US
SUMMARY:Lunar Love Connection\, Valentine's Day Date Night
END:VEVENT
END:VCALENDAR
