BEGIN:VCALENDAR
VERSION:2.0
PRODID:-//www.clcnwi.com//NONSGML kigkonsult.se iCalcreator 2.30.10//
CALSCALE:GREGORIAN
METHOD:PUBLISH
UID:ea12f41c-571a-4b3f-b8de-c7df5fbfc610
X-WR-CALDESC:
X-WR-RELCALID:ccce97d1198e068005d3ea03b117fb6f
X-WR-TIMEZONE:America/Chicago
BEGIN:VTIMEZONE
TZID:America/Chicago
BEGIN:STANDARD
TZNAME:CST
DTSTART:20231105T020000
TZOFFSETFROM:-0500
TZOFFSETTO:-0600
RDATE:20241103T020000
END:STANDARD
BEGIN:DAYLIGHT
TZNAME:CDT
DTSTART:20230312T020000
TZOFFSETFROM:-0600
TZOFFSETTO:-0500
RDATE:20240310T020000
RDATE:20250309T020000
END:DAYLIGHT
END:VTIMEZONE
BEGIN:VEVENT
UID:d8848073-b5af-457f-8448-b827befa9b1a
DTSTAMP:20260420T091700Z
DESCRIPTION:
DTSTART;TZID=America/Chicago:20240112T190000
DTEND;TZID=America/Chicago:20240112T200000
LOCATION:2300 173rd Street\, Hammond\, IN 46323 US
SUMMARY:Laser Beatles 7:00 PM Show
END:VEVENT
END:VCALENDAR
