BEGIN:VCALENDAR
VERSION:2.0
PRODID:-//www.clcnwi.com//NONSGML kigkonsult.se iCalcreator 2.30.10//
CALSCALE:GREGORIAN
METHOD:PUBLISH
UID:b886cb6c-99f3-4369-899e-bb0b20fe838d
X-WR-CALDESC:
X-WR-RELCALID:c9f929851f6840b0798aa32244f7439d
X-WR-TIMEZONE:America/Chicago
BEGIN:VTIMEZONE
TZID:America/Chicago
BEGIN:STANDARD
TZNAME:CST
DTSTART:20231105T020000
TZOFFSETFROM:-0500
TZOFFSETTO:-0600
RDATE:20241103T020000
END:STANDARD
BEGIN:DAYLIGHT
TZNAME:CDT
DTSTART:20230312T020000
TZOFFSETFROM:-0600
TZOFFSETTO:-0500
RDATE:20240310T020000
RDATE:20250309T020000
END:DAYLIGHT
END:VTIMEZONE
BEGIN:VEVENT
UID:092ae9aa-0edd-448b-803b-142bae0234e3
DTSTAMP:20260420T091211Z
DESCRIPTION:
DTSTART;TZID=America/Chicago:20240104T100000
DTEND;TZID=America/Chicago:20240104T120000
LOCATION:
SUMMARY:Home School Day - Energy Explorers
END:VEVENT
END:VCALENDAR
