BEGIN:VCALENDAR
VERSION:2.0
PRODID:-//www.clcnwi.com//NONSGML kigkonsult.se iCalcreator 2.30.10//
CALSCALE:GREGORIAN
METHOD:PUBLISH
UID:d0aa2947-0732-4113-b699-98c34817e8ab
X-WR-CALDESC:
X-WR-RELCALID:c5a577228d618557c0d242cd4c68f3bc
X-WR-TIMEZONE:America/Chicago
BEGIN:VTIMEZONE
TZID:America/Chicago
BEGIN:STANDARD
TZNAME:CST
DTSTART:20231105T020000
TZOFFSETFROM:-0500
TZOFFSETTO:-0600
RDATE:20241103T020000
END:STANDARD
BEGIN:DAYLIGHT
TZNAME:CDT
DTSTART:20230312T020000
TZOFFSETFROM:-0600
TZOFFSETTO:-0500
RDATE:20240310T020000
RDATE:20250309T020000
END:DAYLIGHT
END:VTIMEZONE
BEGIN:VEVENT
UID:704c2653-b435-40b4-9161-bd0b67ad046d
DTSTAMP:20260420T103632Z
DESCRIPTION:
DTSTART;TZID=America/Chicago:20231216T113000
DTEND;TZID=America/Chicago:20231216T123000
LOCATION:2300 173rd Street\, Hammond\, IN 46323 US
SUMMARY:Laser Holiday Light Show 11:30 am
END:VEVENT
END:VCALENDAR
