BEGIN:VCALENDAR
VERSION:2.0
PRODID:-//www.clcnwi.com//NONSGML kigkonsult.se iCalcreator 2.30.10//
CALSCALE:GREGORIAN
METHOD:PUBLISH
UID:65f49f9f-d8fb-4b66-b9f5-010a4c3b185f
X-WR-CALDESC:
X-WR-RELCALID:01603bff242f762c50091b1dc0940794
X-WR-TIMEZONE:America/Chicago
BEGIN:VTIMEZONE
TZID:America/Chicago
BEGIN:STANDARD
TZNAME:CST
DTSTART:20231105T020000
TZOFFSETFROM:-0500
TZOFFSETTO:-0600
RDATE:20241103T020000
END:STANDARD
BEGIN:DAYLIGHT
TZNAME:CDT
DTSTART:20230312T020000
TZOFFSETFROM:-0600
TZOFFSETTO:-0500
RDATE:20240310T020000
RDATE:20250309T020000
END:DAYLIGHT
END:VTIMEZONE
BEGIN:VEVENT
UID:19c388f5-3fc1-4e9f-a725-3c5118b2c896
DTSTAMP:20260420T105658Z
DESCRIPTION:
DTSTART;TZID=America/Chicago:20231216T130000
DTEND;TZID=America/Chicago:20231216T140000
LOCATION:2300 173rd Street\, Hammond\, IN 46323 US
SUMMARY:Laser Holiday Light Show 1 pm
END:VEVENT
END:VCALENDAR
