BEGIN:VCALENDAR
VERSION:2.0
PRODID:-//www.clcnwi.com//NONSGML kigkonsult.se iCalcreator 2.30.10//
CALSCALE:GREGORIAN
METHOD:PUBLISH
UID:351893f8-3cc3-41d1-92ff-475e9ffab9e7
X-WR-CALDESC:
X-WR-RELCALID:8d35f08b2d3aca8bbe777c7dae384a69
X-WR-TIMEZONE:America/Chicago
BEGIN:VTIMEZONE
TZID:America/Chicago
BEGIN:STANDARD
TZNAME:CST
DTSTART:20231105T020000
TZOFFSETFROM:-0500
TZOFFSETTO:-0600
RDATE:20241103T020000
END:STANDARD
BEGIN:DAYLIGHT
TZNAME:CDT
DTSTART:20230312T020000
TZOFFSETFROM:-0600
TZOFFSETTO:-0500
RDATE:20240310T020000
RDATE:20250309T020000
END:DAYLIGHT
END:VTIMEZONE
BEGIN:VEVENT
UID:0b862bf9-0667-432f-b59f-ff70d9441f61
DTSTAMP:20260422T102132Z
DESCRIPTION:
DTSTART;TZID=America/Chicago:20231215T173000
DTEND;TZID=America/Chicago:20231215T183000
LOCATION:2300 173rd Street\, Hammond\, IN 46323 US
SUMMARY:Laser Holiday Light Show 5:30 pm
END:VEVENT
END:VCALENDAR
