BEGIN:VCALENDAR
VERSION:2.0
PRODID:-//www.clcnwi.com//NONSGML kigkonsult.se iCalcreator 2.30.10//
CALSCALE:GREGORIAN
METHOD:PUBLISH
UID:a7213522-c858-42ae-82e9-7f6e6ef29bda
X-WR-CALDESC:
X-WR-RELCALID:ffd7bd000e96e22f0ba92e903b9b9cde
X-WR-TIMEZONE:America/Chicago
BEGIN:VTIMEZONE
TZID:America/Chicago
BEGIN:STANDARD
TZNAME:CST
DTSTART:20231105T020000
TZOFFSETFROM:-0500
TZOFFSETTO:-0600
RDATE:20241103T020000
END:STANDARD
BEGIN:DAYLIGHT
TZNAME:CDT
DTSTART:20230312T020000
TZOFFSETFROM:-0600
TZOFFSETTO:-0500
RDATE:20240310T020000
RDATE:20250309T020000
END:DAYLIGHT
END:VTIMEZONE
BEGIN:VEVENT
UID:c80f68ca-3d59-48b6-a83f-a2a10bf60b2b
DTSTAMP:20260420T121949Z
DESCRIPTION:
DTSTART;TZID=America/Chicago:20231117T180000
DTEND;TZID=America/Chicago:20231117T190000
LOCATION:
SUMMARY:Laser The Wall ALL AGES
END:VEVENT
END:VCALENDAR
