BEGIN:VCALENDAR
VERSION:2.0
PRODID:-//www.clcnwi.com//NONSGML kigkonsult.se iCalcreator 2.30.10//
CALSCALE:GREGORIAN
METHOD:PUBLISH
UID:79948e37-c2de-4a79-9db3-ecbfd2ed3ef4
X-WR-CALDESC:
X-WR-RELCALID:a08aed4e42ce54a27ad08d6c2c2be2bc
X-WR-TIMEZONE:America/Chicago
BEGIN:VTIMEZONE
TZID:America/Chicago
BEGIN:STANDARD
TZNAME:CST
DTSTART:20231105T020000
TZOFFSETFROM:-0500
TZOFFSETTO:-0600
RDATE:20241103T020000
END:STANDARD
BEGIN:DAYLIGHT
TZNAME:CDT
DTSTART:20230312T020000
TZOFFSETFROM:-0600
TZOFFSETTO:-0500
RDATE:20240310T020000
RDATE:20250309T020000
END:DAYLIGHT
END:VTIMEZONE
BEGIN:VEVENT
UID:e4c2e931-673a-4873-be32-b2c61cea444e
DTSTAMP:20260420T120707Z
DESCRIPTION:
DTSTART;TZID=America/Chicago:20231117T193000
DTEND;TZID=America/Chicago:20231117T203000
LOCATION:
SUMMARY:Laser The Wall ADULTS ONLY
END:VEVENT
END:VCALENDAR
