BEGIN:VCALENDAR
VERSION:2.0
PRODID:-//www.clcnwi.com//NONSGML kigkonsult.se iCalcreator 2.30.10//
CALSCALE:GREGORIAN
METHOD:PUBLISH
UID:7d92c708-90c4-4c9c-9a32-28e9e1baccca
X-WR-CALDESC:
X-WR-RELCALID:87f804ba3c8585ebc7a7708b4b2d0361
X-WR-TIMEZONE:America/Chicago
BEGIN:VTIMEZONE
TZID:America/Chicago
BEGIN:STANDARD
TZNAME:CST
DTSTART:20221106T020000
TZOFFSETFROM:-0500
TZOFFSETTO:-0600
RDATE:20231105T020000
RDATE:20241103T020000
END:STANDARD
BEGIN:DAYLIGHT
TZNAME:CDT
DTSTART:20230312T020000
TZOFFSETFROM:-0600
TZOFFSETTO:-0500
RDATE:20240310T020000
RDATE:20250309T020000
END:DAYLIGHT
END:VTIMEZONE
BEGIN:VEVENT
UID:978a5722-06e0-4890-a806-9bca451e604b
DTSTAMP:20260422T101430Z
DESCRIPTION:
DTSTART;TZID=America/Chicago:20231027T183000
DTEND;TZID=America/Chicago:20231027T193000
LOCATION:
SUMMARY:Fright Light 6:30 PM Show
END:VEVENT
END:VCALENDAR
