BEGIN:VCALENDAR
VERSION:2.0
PRODID:-//www.clcnwi.com//NONSGML kigkonsult.se iCalcreator 2.30.10//
CALSCALE:GREGORIAN
METHOD:PUBLISH
UID:89584d92-a51c-47ab-8d58-feb6cb9dbf6d
X-WR-CALDESC:
X-WR-RELCALID:2965a022892fcf1dd44704d8f36949c0
X-WR-TIMEZONE:America/Chicago
BEGIN:VTIMEZONE
TZID:America/Chicago
BEGIN:STANDARD
TZNAME:CST
DTSTART:20221106T020000
TZOFFSETFROM:-0500
TZOFFSETTO:-0600
RDATE:20231105T020000
RDATE:20241103T020000
END:STANDARD
BEGIN:DAYLIGHT
TZNAME:CDT
DTSTART:20230312T020000
TZOFFSETFROM:-0600
TZOFFSETTO:-0500
RDATE:20240310T020000
RDATE:20250309T020000
END:DAYLIGHT
END:VTIMEZONE
BEGIN:VEVENT
UID:28900ec5-8b80-4740-be6d-2e40deda0e6e
DTSTAMP:20260420T145027Z
DESCRIPTION:
DTSTART;TZID=America/Chicago:20230915T180000
DTEND;TZID=America/Chicago:20230915T190000
LOCATION:
SUMMARY:Laser Metallica Light Show ALL AGES
END:VEVENT
END:VCALENDAR
