BEGIN:VCALENDAR
VERSION:2.0
PRODID:-//www.clcnwi.com//NONSGML kigkonsult.se iCalcreator 2.30.10//
CALSCALE:GREGORIAN
METHOD:PUBLISH
UID:8d3480be-bc56-4cbe-a943-18f3d33b94f0
X-WR-CALDESC:
X-WR-RELCALID:044bbaa21d3bdfeb717ee4ed19589748
X-WR-TIMEZONE:America/Chicago
BEGIN:VTIMEZONE
TZID:America/Chicago
BEGIN:STANDARD
TZNAME:CST
DTSTART:20221106T020000
TZOFFSETFROM:-0500
TZOFFSETTO:-0600
RDATE:20231105T020000
RDATE:20241103T020000
END:STANDARD
BEGIN:DAYLIGHT
TZNAME:CDT
DTSTART:20230312T020000
TZOFFSETFROM:-0600
TZOFFSETTO:-0500
RDATE:20240310T020000
RDATE:20250309T020000
END:DAYLIGHT
END:VTIMEZONE
BEGIN:VEVENT
UID:526a36ae-5dae-427d-8ee8-a8d7bfb07d3e
DTSTAMP:20260420T144246Z
DESCRIPTION:
DTSTART;TZID=America/Chicago:20230915T193000
DTEND;TZID=America/Chicago:20230915T203000
LOCATION:
SUMMARY:Laser Metallica Light Show ADULTS ONLY
END:VEVENT
END:VCALENDAR
