BEGIN:VCALENDAR
VERSION:2.0
PRODID:-//www.clcnwi.com//NONSGML kigkonsult.se iCalcreator 2.30.10//
CALSCALE:GREGORIAN
METHOD:PUBLISH
UID:6f9185d7-f00b-43df-8a09-7cd3a54d1d2c
X-WR-CALDESC:
X-WR-RELCALID:0a7dc813913213571deb67cb69b2013f
X-WR-TIMEZONE:America/Chicago
BEGIN:VTIMEZONE
TZID:America/Chicago
BEGIN:STANDARD
TZNAME:CST
DTSTART:20221106T020000
TZOFFSETFROM:-0500
TZOFFSETTO:-0600
RDATE:20231105T020000
RDATE:20241103T020000
END:STANDARD
BEGIN:DAYLIGHT
TZNAME:CDT
DTSTART:20230312T020000
TZOFFSETFROM:-0600
TZOFFSETTO:-0500
RDATE:20240310T020000
RDATE:20250309T020000
END:DAYLIGHT
END:VTIMEZONE
BEGIN:VEVENT
UID:65b14475-cb80-4235-af1a-d28c93671f9d
DTSTAMP:20260420T144406Z
DESCRIPTION:
DTSTART;TZID=America/Chicago:20230911T100000
DTEND;TZID=America/Chicago:20230911T120000
LOCATION:
SUMMARY:Home School Day - Mars Mission
END:VEVENT
END:VCALENDAR
