BEGIN:VCALENDAR
VERSION:2.0
PRODID:-//www.clcnwi.com//NONSGML kigkonsult.se iCalcreator 2.30.10//
CALSCALE:GREGORIAN
METHOD:PUBLISH
UID:de3f8458-728c-4b46-9497-ef10f59377be
X-WR-CALDESC:
X-WR-RELCALID:2635de120b39a06c57114c9c6d720f36
X-WR-TIMEZONE:America/Chicago
BEGIN:VTIMEZONE
TZID:America/Chicago
BEGIN:STANDARD
TZNAME:CST
DTSTART:20221106T020000
TZOFFSETFROM:-0500
TZOFFSETTO:-0600
RDATE:20231105T020000
RDATE:20241103T020000
END:STANDARD
BEGIN:DAYLIGHT
TZNAME:CDT
DTSTART:20230312T020000
TZOFFSETFROM:-0600
TZOFFSETTO:-0500
RDATE:20240310T020000
RDATE:20250309T020000
END:DAYLIGHT
END:VTIMEZONE
BEGIN:VEVENT
UID:96fd29eb-f374-4b81-a038-78a6a5b501c3
DTSTAMP:20260420T144739Z
DESCRIPTION:
DTSTART;TZID=America/Chicago:20230908T100000
DTEND;TZID=America/Chicago:20230908T123000
LOCATION:
SUMMARY:Home School Day - Living in Space Lab
END:VEVENT
END:VCALENDAR
