BEGIN:VCALENDAR
VERSION:2.0
PRODID:-//www.clcnwi.com//NONSGML kigkonsult.se iCalcreator 2.30.10//
CALSCALE:GREGORIAN
METHOD:PUBLISH
UID:2cdaedd8-517c-4915-b4d3-99b335eacc79
X-WR-CALDESC:
X-WR-RELCALID:b9922f365b94d83aac312e7dc3666033
X-WR-TIMEZONE:America/Chicago
BEGIN:VTIMEZONE
TZID:America/Chicago
BEGIN:STANDARD
TZNAME:CST
DTSTART:20221106T020000
TZOFFSETFROM:-0500
TZOFFSETTO:-0600
RDATE:20231105T020000
RDATE:20241103T020000
END:STANDARD
BEGIN:DAYLIGHT
TZNAME:CDT
DTSTART:20230312T020000
TZOFFSETFROM:-0600
TZOFFSETTO:-0500
RDATE:20240310T020000
END:DAYLIGHT
END:VTIMEZONE
BEGIN:VEVENT
UID:5515a2b9-0ea8-4f3b-bfd4-710f36d08b32
DTSTAMP:20260420T144058Z
DESCRIPTION:
DTSTART;TZID=America/Chicago:20230907T100000
DTEND;TZID=America/Chicago:20230907T123000
LOCATION:
SUMMARY:Home School Day - Engineering Edventures
END:VEVENT
END:VCALENDAR
