BEGIN:VCALENDAR
VERSION:2.0
PRODID:-//www.clcnwi.com//NONSGML kigkonsult.se iCalcreator 2.30.10//
CALSCALE:GREGORIAN
METHOD:PUBLISH
UID:96bac922-0dcd-4e7f-a9c6-cf94e1fa74c2
X-WR-CALDESC:
X-WR-RELCALID:0e0cc8b5485df35cc45c9d6006143e19
X-WR-TIMEZONE:America/Chicago
BEGIN:VTIMEZONE
TZID:America/Chicago
BEGIN:STANDARD
TZNAME:CST
DTSTART:20221106T020000
TZOFFSETFROM:-0500
TZOFFSETTO:-0600
RDATE:20231105T020000
RDATE:20241103T020000
END:STANDARD
BEGIN:DAYLIGHT
TZNAME:CDT
DTSTART:20230312T020000
TZOFFSETFROM:-0600
TZOFFSETTO:-0500
RDATE:20240310T020000
END:DAYLIGHT
END:VTIMEZONE
BEGIN:VEVENT
UID:a1d74134-3a00-4b77-b7c7-352c8d01d09f
DTSTAMP:20260420T144745Z
DESCRIPTION:
DTSTART;TZID=America/Chicago:20230906T100000
DTEND;TZID=America/Chicago:20230906T123000
LOCATION:
SUMMARY:Home School Day - Moonbase Explorers
END:VEVENT
END:VCALENDAR
