BEGIN:VCALENDAR
VERSION:2.0
PRODID:-//www.clcnwi.com//NONSGML kigkonsult.se iCalcreator 2.30.10//
CALSCALE:GREGORIAN
METHOD:PUBLISH
UID:dd5186a4-ebc6-4bd3-aeb9-d2753dcc2d02
X-WR-CALDESC:
X-WR-RELCALID:ce0ce3b50ab83569c50a9544ed815cf0
X-WR-TIMEZONE:America/Chicago
BEGIN:VTIMEZONE
TZID:America/Chicago
BEGIN:STANDARD
TZNAME:CST
DTSTART:20221106T020000
TZOFFSETFROM:-0500
TZOFFSETTO:-0600
RDATE:20231105T020000
RDATE:20241103T020000
END:STANDARD
BEGIN:DAYLIGHT
TZNAME:CDT
DTSTART:20230312T020000
TZOFFSETFROM:-0600
TZOFFSETTO:-0500
RDATE:20240310T020000
END:DAYLIGHT
END:VTIMEZONE
BEGIN:VEVENT
UID:f5ad6595-f4f5-402c-aeae-b419c10c7c54
DTSTAMP:20260420T180600Z
DESCRIPTION:
DTSTART;TZID=America/Chicago:20230714T130000
DTEND;TZID=America/Chicago:20230714T140000
LOCATION:2300 173rd Street\, Hammond\, IN 46323 US
SUMMARY:Pop-Up Summer Camp: Mini Moonbase
END:VEVENT
END:VCALENDAR
