BEGIN:VCALENDAR
VERSION:2.0
PRODID:-//www.clcnwi.com//NONSGML kigkonsult.se iCalcreator 2.30.10//
CALSCALE:GREGORIAN
METHOD:PUBLISH
UID:1e6a383c-c1cb-4ef2-b92a-e11e36318250
X-WR-CALDESC:
X-WR-RELCALID:f44b5eca75cc340666a7bfff0b29624f
X-WR-TIMEZONE:America/Chicago
BEGIN:VTIMEZONE
TZID:America/Chicago
BEGIN:STANDARD
TZNAME:CST
DTSTART:20221106T020000
TZOFFSETFROM:-0500
TZOFFSETTO:-0600
RDATE:20231105T020000
RDATE:20241103T020000
END:STANDARD
BEGIN:DAYLIGHT
TZNAME:CDT
DTSTART:20230312T020000
TZOFFSETFROM:-0600
TZOFFSETTO:-0500
RDATE:20240310T020000
END:DAYLIGHT
END:VTIMEZONE
BEGIN:VEVENT
UID:4df4763b-0d64-4edc-95ec-f73770e6b187
DTSTAMP:20260420T180344Z
DESCRIPTION:
DTSTART;TZID=America/Chicago:20230711T100000
DTEND;TZID=America/Chicago:20230711T120000
LOCATION:2300 173rd Street\, Hammond\, IN 46323 US
SUMMARY:Pop-Up Summer Camp:Living In Space 3rd - 5th
END:VEVENT
END:VCALENDAR
