BEGIN:VCALENDAR
VERSION:2.0
PRODID:-//www.clcnwi.com//NONSGML kigkonsult.se iCalcreator 2.30.10//
CALSCALE:GREGORIAN
METHOD:PUBLISH
UID:9203c29e-4ced-432e-aaef-043d7fe17370
X-WR-CALDESC:
X-WR-RELCALID:84c552048acc03cdbefc50dab51973ed
X-WR-TIMEZONE:America/Chicago
BEGIN:VTIMEZONE
TZID:America/Chicago
BEGIN:STANDARD
TZNAME:CST
DTSTART:20221106T020000
TZOFFSETFROM:-0500
TZOFFSETTO:-0600
RDATE:20231105T020000
RDATE:20241103T020000
END:STANDARD
BEGIN:DAYLIGHT
TZNAME:CDT
DTSTART:20230312T020000
TZOFFSETFROM:-0600
TZOFFSETTO:-0500
RDATE:20240310T020000
END:DAYLIGHT
END:VTIMEZONE
BEGIN:VEVENT
UID:6e0d6e79-65de-4ca3-af4f-a80481cc29fb
DTSTAMP:20260420T180554Z
DESCRIPTION:
DTSTART;TZID=America/Chicago:20230710T100000
DTEND;TZID=America/Chicago:20230710T120000
LOCATION:2300 173rd Street\, Hammond\, IN 46323 US
SUMMARY:Pop-Up Summer Camp:Stellar Science Rocket Stars
END:VEVENT
END:VCALENDAR
