BEGIN:VCALENDAR
VERSION:2.0
PRODID:-//www.clcnwi.com//NONSGML kigkonsult.se iCalcreator 2.30.10//
CALSCALE:GREGORIAN
METHOD:PUBLISH
UID:315e1c07-56f8-4236-bc16-6fa85ae8cc7f
X-WR-CALDESC:
X-WR-RELCALID:fe088d1ed71e739e767681a3884bc209
X-WR-TIMEZONE:America/Chicago
BEGIN:VTIMEZONE
TZID:America/Chicago
BEGIN:STANDARD
TZNAME:CST
DTSTART:20221106T020000
TZOFFSETFROM:-0500
TZOFFSETTO:-0600
RDATE:20231105T020000
RDATE:20241103T020000
END:STANDARD
BEGIN:DAYLIGHT
TZNAME:CDT
DTSTART:20230312T020000
TZOFFSETFROM:-0600
TZOFFSETTO:-0500
RDATE:20240310T020000
END:DAYLIGHT
END:VTIMEZONE
BEGIN:VEVENT
UID:da174f11-63e6-40bc-9f37-e6be88ae5d9e
DTSTAMP:20260420T180913Z
DESCRIPTION:
DTSTART;TZID=America/Chicago:20230705T000000
DTEND;TZID=America/Chicago:20230705T235900
LOCATION:2300 173rd Street\, Hammond\, IN 46323 US
SUMMARY:Pop-Up Planetarium Premier
END:VEVENT
END:VCALENDAR
