BEGIN:VCALENDAR
VERSION:2.0
PRODID:-//www.clcnwi.com//NONSGML kigkonsult.se iCalcreator 2.30.10//
CALSCALE:GREGORIAN
METHOD:PUBLISH
UID:ab4b6dd8-3d6a-467f-823f-681f3e2e67ec
X-WR-CALDESC:
X-WR-RELCALID:606789cfeeae5ea8fb081bd2e0a95eee
X-WR-TIMEZONE:America/Chicago
BEGIN:VTIMEZONE
TZID:America/Chicago
BEGIN:STANDARD
TZNAME:CST
DTSTART:20221106T020000
TZOFFSETFROM:-0500
TZOFFSETTO:-0600
RDATE:20231105T020000
RDATE:20241103T020000
END:STANDARD
BEGIN:DAYLIGHT
TZNAME:CDT
DTSTART:20230312T020000
TZOFFSETFROM:-0600
TZOFFSETTO:-0500
RDATE:20240310T020000
END:DAYLIGHT
END:VTIMEZONE
BEGIN:VEVENT
UID:d6e96524-32a8-43af-8393-759ef2d5b17b
DTSTAMP:20260420T192914Z
DESCRIPTION:
DTSTART;TZID=America/Chicago:20230623T170000
DTEND;TZID=America/Chicago:20230623T180000
LOCATION:The Challenger Learning Center of Northwest Indiana (on the campus
  of Purdue University Northwest)
SUMMARY:Laser Led Zeppelin Light Show 5 PM ALL AGES
END:VEVENT
END:VCALENDAR
