BEGIN:VCALENDAR
VERSION:2.0
PRODID:-//www.clcnwi.com//NONSGML kigkonsult.se iCalcreator 2.30.10//
CALSCALE:GREGORIAN
METHOD:PUBLISH
UID:6c304aa9-cf29-49d7-a305-cac24823b602
X-WR-CALDESC:
X-WR-RELCALID:66bea67cf195696064e7419404691567
X-WR-TIMEZONE:America/Chicago
BEGIN:VTIMEZONE
TZID:America/Chicago
BEGIN:STANDARD
TZNAME:CST
DTSTART:20221106T020000
TZOFFSETFROM:-0500
TZOFFSETTO:-0600
RDATE:20231105T020000
RDATE:20241103T020000
END:STANDARD
BEGIN:DAYLIGHT
TZNAME:CDT
DTSTART:20230312T020000
TZOFFSETFROM:-0600
TZOFFSETTO:-0500
RDATE:20240310T020000
END:DAYLIGHT
END:VTIMEZONE
BEGIN:VEVENT
UID:c05322fc-0448-4712-bda2-e0c1cf92b613
DTSTAMP:20260420T193440Z
DESCRIPTION:
DTSTART;TZID=America/Chicago:20230620T133000
DTEND;TZID=America/Chicago:20230620T153000
LOCATION:2300 173rd Street\, Hammond\, IN 46323 US
SUMMARY:Pop-Up Aviary Adventures
END:VEVENT
END:VCALENDAR
