BEGIN:VCALENDAR
VERSION:2.0
PRODID:-//www.clcnwi.com//NONSGML kigkonsult.se iCalcreator 2.30.10//
CALSCALE:GREGORIAN
METHOD:PUBLISH
UID:6a5e1428-9999-4106-8705-d52aab75443d
X-WR-CALDESC:
X-WR-RELCALID:3dca8de487612f4c3626248dad36bc20
X-WR-TIMEZONE:America/Chicago
BEGIN:VTIMEZONE
TZID:America/Chicago
BEGIN:STANDARD
TZNAME:CST
DTSTART:20221106T020000
TZOFFSETFROM:-0500
TZOFFSETTO:-0600
RDATE:20231105T020000
RDATE:20241103T020000
END:STANDARD
BEGIN:DAYLIGHT
TZNAME:CDT
DTSTART:20230312T020000
TZOFFSETFROM:-0600
TZOFFSETTO:-0500
RDATE:20240310T020000
END:DAYLIGHT
END:VTIMEZONE
BEGIN:VEVENT
UID:db164bd0-897a-4162-8364-5fcb962898a9
DTSTAMP:20260420T193056Z
DESCRIPTION:
DTSTART;TZID=America/Chicago:20230605T100000
DTEND;TZID=America/Chicago:20230605T120000
LOCATION:
SUMMARY:Space Explorers Pop Up Summer Camp K - 3
END:VEVENT
END:VCALENDAR
