BEGIN:VCALENDAR
VERSION:2.0
PRODID:-//www.clcnwi.com//NONSGML kigkonsult.se iCalcreator 2.30.10//
CALSCALE:GREGORIAN
METHOD:PUBLISH
UID:2f4e1bbb-d5a5-4e70-a37f-4b28a072ba1e
X-WR-CALDESC:
X-WR-RELCALID:663ffa8108fd124287549ecb60884c85
X-WR-TIMEZONE:America/Chicago
BEGIN:VTIMEZONE
TZID:America/Chicago
BEGIN:STANDARD
TZNAME:CST
DTSTART:20221106T020000
TZOFFSETFROM:-0500
TZOFFSETTO:-0600
RDATE:20231105T020000
RDATE:20241103T020000
END:STANDARD
BEGIN:DAYLIGHT
TZNAME:CDT
DTSTART:20230312T020000
TZOFFSETFROM:-0600
TZOFFSETTO:-0500
RDATE:20240310T020000
END:DAYLIGHT
END:VTIMEZONE
BEGIN:VEVENT
UID:00c6b842-82d0-4506-a158-70e7116f7a73
DTSTAMP:20260420T195116Z
DESCRIPTION:
DTSTART;TZID=America/Chicago:20230605T130000
DTEND;TZID=America/Chicago:20230605T150000
LOCATION:
SUMMARY:Space Explorers Pop Up Summer Camp 4 - 7
END:VEVENT
END:VCALENDAR
