BEGIN:VCALENDAR
VERSION:2.0
PRODID:-//www.clcnwi.com//NONSGML kigkonsult.se iCalcreator 2.30.10//
CALSCALE:GREGORIAN
METHOD:PUBLISH
UID:cbfb7b54-1f09-4a74-bc8c-992182012346
X-WR-CALDESC:
X-WR-RELCALID:23c62afaab670aa85caa216c97f3e658
X-WR-TIMEZONE:America/Chicago
BEGIN:VTIMEZONE
TZID:America/Chicago
BEGIN:STANDARD
TZNAME:CST
DTSTART:20221106T020000
TZOFFSETFROM:-0500
TZOFFSETTO:-0600
RDATE:20231105T020000
END:STANDARD
BEGIN:DAYLIGHT
TZNAME:CDT
DTSTART:20230312T020000
TZOFFSETFROM:-0600
TZOFFSETTO:-0500
RDATE:20240310T020000
END:DAYLIGHT
END:VTIMEZONE
BEGIN:VEVENT
UID:93ed5d88-9a58-4cfa-9720-1c048478300a
DTSTAMP:20260421T000458Z
DESCRIPTION:
DTSTART;TZID=America/Chicago:20230331T193000
DTEND;TZID=America/Chicago:20230331T203000
LOCATION:
SUMMARY:Dark Side of the Moon 7:30 18+ Showtime
END:VEVENT
END:VCALENDAR
