BEGIN:VCALENDAR
VERSION:2.0
PRODID:-//www.clcnwi.com//NONSGML kigkonsult.se iCalcreator 2.30.10//
CALSCALE:GREGORIAN
METHOD:PUBLISH
UID:21382fb0-b42b-4c3a-ac2b-2567b6b52c1f
X-WR-CALDESC:
X-WR-RELCALID:df83181b8a7ec0a098a4c1068776caaf
X-WR-TIMEZONE:America/Chicago
BEGIN:VTIMEZONE
TZID:America/Chicago
BEGIN:STANDARD
TZNAME:CST
DTSTART:20221106T020000
TZOFFSETFROM:-0500
TZOFFSETTO:-0600
RDATE:20231105T020000
END:STANDARD
BEGIN:DAYLIGHT
TZNAME:CDT
DTSTART:20230312T020000
TZOFFSETFROM:-0600
TZOFFSETTO:-0500
RDATE:20240310T020000
END:DAYLIGHT
END:VTIMEZONE
BEGIN:VEVENT
UID:c3032e4a-4f75-4e6a-abd7-890bbdb13ca2
DTSTAMP:20260421T000058Z
DESCRIPTION:
DTSTART;TZID=America/Chicago:20230331T180000
DTEND;TZID=America/Chicago:20230331T190000
LOCATION:
SUMMARY:Dark Side of the Moon 6:00 13+ Showtime
END:VEVENT
END:VCALENDAR
