BEGIN:VCALENDAR
VERSION:2.0
PRODID:-//www.clcnwi.com//NONSGML kigkonsult.se iCalcreator 2.30.10//
CALSCALE:GREGORIAN
METHOD:PUBLISH
UID:530e46ad-d5ec-4cd2-89e5-78314b8565e7
X-WR-CALDESC:
X-WR-RELCALID:9a21ec503b2658af53da79e524e68f53
X-WR-TIMEZONE:America/Chicago
BEGIN:VTIMEZONE
TZID:America/Chicago
BEGIN:STANDARD
TZNAME:CST
DTSTART:20221106T020000
TZOFFSETFROM:-0500
TZOFFSETTO:-0600
RDATE:20231105T020000
END:STANDARD
BEGIN:DAYLIGHT
TZNAME:CDT
DTSTART:20230312T020000
TZOFFSETFROM:-0600
TZOFFSETTO:-0500
RDATE:20240310T020000
END:DAYLIGHT
END:VTIMEZONE
BEGIN:VEVENT
UID:265ab66a-168a-4abe-9dfe-95fe7cfb2a3d
DTSTAMP:20260420T235939Z
DESCRIPTION:
DTSTART;TZID=America/Chicago:20230331T163000
DTEND;TZID=America/Chicago:20230331T173000
LOCATION:
SUMMARY:Dark Side of the Moon 4:30 All Ages
END:VEVENT
END:VCALENDAR
