BEGIN:VCALENDAR
VERSION:2.0
PRODID:-//www.clcnwi.com//NONSGML kigkonsult.se iCalcreator 2.30.10//
CALSCALE:GREGORIAN
METHOD:PUBLISH
UID:4481a47b-fb0a-4522-bee6-66008f487279
X-WR-CALDESC:
X-WR-RELCALID:439905414fe73a29b1994443d4fe5fcc
X-WR-TIMEZONE:America/Chicago
BEGIN:VTIMEZONE
TZID:America/Chicago
BEGIN:STANDARD
TZNAME:CST
DTSTART:20221106T020000
TZOFFSETFROM:-0500
TZOFFSETTO:-0600
RDATE:20231105T020000
END:STANDARD
BEGIN:DAYLIGHT
TZNAME:CDT
DTSTART:20220313T020000
TZOFFSETFROM:-0600
TZOFFSETTO:-0500
RDATE:20230312T020000
RDATE:20240310T020000
END:DAYLIGHT
END:VTIMEZONE
BEGIN:VEVENT
UID:b1b20484-756f-46db-b810-2bf6f73a6fc9
DTSTAMP:20260421T014004Z
DESCRIPTION:
DTSTART;TZID=America/Chicago:20230211T170000
DTEND;TZID=America/Chicago:20230211T200000
LOCATION:2300 173rd Street\, Hammond\, IN 46323 US
SUMMARY:Red Planet Romance\, Valentine's Day Date Night
END:VEVENT
END:VCALENDAR
