BEGIN:VCALENDAR
VERSION:2.0
PRODID:-//www.clcnwi.com//NONSGML kigkonsult.se iCalcreator 2.30.10//
CALSCALE:GREGORIAN
METHOD:PUBLISH
UID:5ea74445-051b-4e41-a660-b11e8f1c9fe4
X-WR-CALDESC:
X-WR-RELCALID:7f6864be1f5a30aa1e3f9e594a68f2e0
X-WR-TIMEZONE:America/Chicago
BEGIN:VTIMEZONE
TZID:America/Chicago
BEGIN:STANDARD
TZNAME:CST
DTSTART:20221106T020000
TZOFFSETFROM:-0500
TZOFFSETTO:-0600
RDATE:20231105T020000
END:STANDARD
BEGIN:DAYLIGHT
TZNAME:CDT
DTSTART:20220313T020000
TZOFFSETFROM:-0600
TZOFFSETTO:-0500
RDATE:20230312T020000
RDATE:20240310T020000
END:DAYLIGHT
END:VTIMEZONE
BEGIN:VEVENT
UID:0b557d98-8756-46c3-812c-9751b7bfdca9
DTSTAMP:20260421T033026Z
DESCRIPTION:
DTSTART;TZID=America/Chicago:20230106T100000
DTEND;TZID=America/Chicago:20230106T123000
LOCATION:
SUMMARY:Home School Day - Rocketry lab
END:VEVENT
END:VCALENDAR
