BEGIN:VCALENDAR
VERSION:2.0
PRODID:-//www.clcnwi.com//NONSGML kigkonsult.se iCalcreator 2.30.10//
CALSCALE:GREGORIAN
METHOD:PUBLISH
UID:b0ca9d42-8a04-4302-b8f6-ca921008643c
X-WR-CALDESC:
X-WR-RELCALID:6bc83a009656059dbcaafe9cee06124a
X-WR-TIMEZONE:America/Chicago
BEGIN:VTIMEZONE
TZID:America/Chicago
BEGIN:STANDARD
TZNAME:CST
DTSTART:20221106T020000
TZOFFSETFROM:-0500
TZOFFSETTO:-0600
RDATE:20231105T020000
END:STANDARD
BEGIN:DAYLIGHT
TZNAME:CDT
DTSTART:20220313T020000
TZOFFSETFROM:-0600
TZOFFSETTO:-0500
RDATE:20230312T020000
RDATE:20240310T020000
END:DAYLIGHT
END:VTIMEZONE
BEGIN:VEVENT
UID:c30d6e39-f5f2-4ee2-a08b-7bcb8dc275f4
DTSTAMP:20260421T032314Z
DESCRIPTION:
DTSTART;TZID=America/Chicago:20230105T100000
DTEND;TZID=America/Chicago:20230105T123000
LOCATION:
SUMMARY:Home School Day - Simple Machines
END:VEVENT
END:VCALENDAR
