BEGIN:VCALENDAR
VERSION:2.0
PRODID:-//www.clcnwi.com//NONSGML kigkonsult.se iCalcreator 2.30.10//
CALSCALE:GREGORIAN
METHOD:PUBLISH
UID:c0045b44-8e47-4066-b48a-f32167ae3151
X-WR-CALDESC:
X-WR-RELCALID:433a49652bcb47c4e4ac014559767753
X-WR-TIMEZONE:America/Chicago
BEGIN:VTIMEZONE
TZID:America/Chicago
BEGIN:STANDARD
TZNAME:CST
DTSTART:20221106T020000
TZOFFSETFROM:-0500
TZOFFSETTO:-0600
RDATE:20231105T020000
END:STANDARD
BEGIN:DAYLIGHT
TZNAME:CDT
DTSTART:20220313T020000
TZOFFSETFROM:-0600
TZOFFSETTO:-0500
RDATE:20230312T020000
RDATE:20240310T020000
END:DAYLIGHT
END:VTIMEZONE
BEGIN:VEVENT
UID:8616d4b9-2326-4d2d-948c-0505dd772a2d
DTSTAMP:20260421T033027Z
DESCRIPTION:
DTSTART;TZID=America/Chicago:20230104T100000
DTEND;TZID=America/Chicago:20230104T123000
LOCATION:
SUMMARY:Home School Day - Moonbase Explorers
END:VEVENT
END:VCALENDAR
