BEGIN:VCALENDAR
VERSION:2.0
PRODID:-//www.clcnwi.com//NONSGML kigkonsult.se iCalcreator 2.30.10//
CALSCALE:GREGORIAN
METHOD:PUBLISH
UID:d375a611-9622-41c2-bfe2-7fd85e271278
X-WR-CALDESC:
X-WR-RELCALID:88dd505f5284dd1b6935d36248e87649
X-WR-TIMEZONE:America/Chicago
BEGIN:VTIMEZONE
TZID:America/Chicago
BEGIN:STANDARD
TZNAME:CST
DTSTART:20221106T020000
TZOFFSETFROM:-0500
TZOFFSETTO:-0600
RDATE:20231105T020000
END:STANDARD
BEGIN:DAYLIGHT
TZNAME:CDT
DTSTART:20220313T020000
TZOFFSETFROM:-0600
TZOFFSETTO:-0500
RDATE:20230312T020000
RDATE:20240310T020000
END:DAYLIGHT
END:VTIMEZONE
BEGIN:VEVENT
UID:2210a8c7-f6f5-42ce-b365-ac03637bb6e3
DTSTAMP:20260421T051331Z
DESCRIPTION:
DTSTART;TZID=America/Chicago:20221217T113000
DTEND;TZID=America/Chicago:20221217T123000
LOCATION:
SUMMARY:Saturday Holiday Laser Show 11:30 am
END:VEVENT
END:VCALENDAR
