BEGIN:VCALENDAR
VERSION:2.0
PRODID:-//www.clcnwi.com//NONSGML kigkonsult.se iCalcreator 2.30.10//
CALSCALE:GREGORIAN
METHOD:PUBLISH
UID:559f2e36-7c79-45c6-a072-dc0aabdfc697
X-WR-CALDESC:
X-WR-RELCALID:45c02a91b256e04ebc9333f30901f6f2
X-WR-TIMEZONE:America/Chicago
BEGIN:VTIMEZONE
TZID:America/Chicago
BEGIN:STANDARD
TZNAME:CST
DTSTART:20221106T020000
TZOFFSETFROM:-0500
TZOFFSETTO:-0600
RDATE:20231105T020000
END:STANDARD
BEGIN:DAYLIGHT
TZNAME:CDT
DTSTART:20220313T020000
TZOFFSETFROM:-0600
TZOFFSETTO:-0500
RDATE:20230312T020000
RDATE:20240310T020000
END:DAYLIGHT
END:VTIMEZONE
BEGIN:VEVENT
UID:d81feb77-462d-4a51-9495-c92b66a5f296
DTSTAMP:20260421T051229Z
DESCRIPTION:
DTSTART;TZID=America/Chicago:20221217T130000
DTEND;TZID=America/Chicago:20221217T140000
LOCATION:
SUMMARY:Saturday Holiday Laser Show 1 pm
END:VEVENT
END:VCALENDAR
