BEGIN:VCALENDAR
VERSION:2.0
PRODID:-//www.clcnwi.com//NONSGML kigkonsult.se iCalcreator 2.30.10//
CALSCALE:GREGORIAN
METHOD:PUBLISH
UID:a7c90307-8733-4c9f-a707-ce0146710524
X-WR-CALDESC:
X-WR-RELCALID:fd25fd9235c485f6ccf984af157a7414
X-WR-TIMEZONE:America/Chicago
BEGIN:VTIMEZONE
TZID:America/Chicago
BEGIN:STANDARD
TZNAME:CST
DTSTART:20221106T020000
TZOFFSETFROM:-0500
TZOFFSETTO:-0600
RDATE:20231105T020000
END:STANDARD
BEGIN:DAYLIGHT
TZNAME:CDT
DTSTART:20220313T020000
TZOFFSETFROM:-0600
TZOFFSETTO:-0500
RDATE:20230312T020000
RDATE:20240310T020000
END:DAYLIGHT
END:VTIMEZONE
BEGIN:VEVENT
UID:75f54e4c-4d86-44bc-ba6c-15a739f468b4
DTSTAMP:20260421T051106Z
DESCRIPTION:
DTSTART;TZID=America/Chicago:20221216T170000
DTEND;TZID=America/Chicago:20221216T180000
LOCATION:
SUMMARY:Friday Holiday Laser Show 5 pm
END:VEVENT
END:VCALENDAR
