BEGIN:VCALENDAR
VERSION:2.0
PRODID:-//www.clcnwi.com//NONSGML kigkonsult.se iCalcreator 2.30.10//
CALSCALE:GREGORIAN
METHOD:PUBLISH
UID:6faa46b6-3e9b-43ae-8b0f-b3d20fdd34fd
X-WR-CALDESC:
X-WR-RELCALID:eccb79fe378d96e8e568e65def122b9e
X-WR-TIMEZONE:America/Chicago
BEGIN:VTIMEZONE
TZID:America/Chicago
BEGIN:STANDARD
TZNAME:CST
DTSTART:20211107T020000
TZOFFSETFROM:-0500
TZOFFSETTO:-0600
RDATE:20221106T020000
RDATE:20231105T020000
END:STANDARD
BEGIN:DAYLIGHT
TZNAME:CDT
DTSTART:20220313T020000
TZOFFSETFROM:-0600
TZOFFSETTO:-0500
RDATE:20230312T020000
RDATE:20240310T020000
END:DAYLIGHT
END:VTIMEZONE
BEGIN:VEVENT
UID:fe01dbbf-9520-4896-988b-e7acd3b3273d
DTSTAMP:20260423T082854Z
DESCRIPTION:
DTSTART;TZID=America/Chicago:20221028T183000
DTEND;TZID=America/Chicago:20221028T193000
LOCATION:2300 173rd Street\, Hammond\, IN 46323 US
SUMMARY:Fright Light 6:30 PM Show
END:VEVENT
END:VCALENDAR
