BEGIN:VCALENDAR
VERSION:2.0
PRODID:-//www.clcnwi.com//NONSGML kigkonsult.se iCalcreator 2.30.10//
CALSCALE:GREGORIAN
METHOD:PUBLISH
UID:55c7ccfd-619e-4f76-bfeb-8f13bf49b553
X-WR-CALDESC:
X-WR-RELCALID:895a26f491536eb7670a2be344710409
X-WR-TIMEZONE:America/Chicago
BEGIN:VTIMEZONE
TZID:America/Chicago
BEGIN:STANDARD
TZNAME:CST
DTSTART:20211107T020000
TZOFFSETFROM:-0500
TZOFFSETTO:-0600
RDATE:20221106T020000
RDATE:20231105T020000
END:STANDARD
BEGIN:DAYLIGHT
TZNAME:CDT
DTSTART:20220313T020000
TZOFFSETFROM:-0600
TZOFFSETTO:-0500
RDATE:20230312T020000
RDATE:20240310T020000
END:DAYLIGHT
END:VTIMEZONE
BEGIN:VEVENT
UID:50be92f3-4c16-41a9-a149-768d7da3c0e9
DTSTAMP:20260423T083533Z
DESCRIPTION:
DTSTART;TZID=America/Chicago:20221028T170000
DTEND;TZID=America/Chicago:20221028T180000
LOCATION:2300 173rd Street\, Hammond\, IN 46323 US
SUMMARY:Fright Light 5 PM Show
END:VEVENT
END:VCALENDAR
