BEGIN:VCALENDAR
VERSION:2.0
PRODID:-//www.clcnwi.com//NONSGML kigkonsult.se iCalcreator 2.30.10//
CALSCALE:GREGORIAN
METHOD:PUBLISH
UID:2150257d-d4d0-410d-9649-276a9c4090b3
X-WR-CALDESC:
X-WR-RELCALID:5da557d4a39d88b8728b69e9f0e4e374
X-WR-TIMEZONE:America/Chicago
BEGIN:VTIMEZONE
TZID:America/Chicago
BEGIN:STANDARD
TZNAME:CST
DTSTART:20211107T020000
TZOFFSETFROM:-0500
TZOFFSETTO:-0600
RDATE:20221106T020000
RDATE:20231105T020000
END:STANDARD
BEGIN:DAYLIGHT
TZNAME:CDT
DTSTART:20220313T020000
TZOFFSETFROM:-0600
TZOFFSETTO:-0500
RDATE:20230312T020000
END:DAYLIGHT
END:VTIMEZONE
BEGIN:VEVENT
UID:59db5180-b081-4487-90c9-62bce0714c4d
DTSTAMP:20260423T111850Z
DESCRIPTION:
DTSTART;TZID=America/Chicago:20220830T100000
DTEND;TZID=America/Chicago:20220830T120000
LOCATION:2300 173rd Street\, Hammond\, IN 46323 US
SUMMARY:Home School Morning Mission
END:VEVENT
END:VCALENDAR
