BEGIN:VCALENDAR
VERSION:2.0
PRODID:-//www.clcnwi.com//NONSGML kigkonsult.se iCalcreator 2.30.10//
CALSCALE:GREGORIAN
METHOD:PUBLISH
UID:3fd53db6-0230-4bb0-b13e-c089705cb1ec
X-WR-CALDESC:
X-WR-RELCALID:3c2f0521caa8b0d608a4c44721bd829b
X-WR-TIMEZONE:America/Chicago
BEGIN:VTIMEZONE
TZID:America/Chicago
BEGIN:STANDARD
TZNAME:CST
DTSTART:20211107T020000
TZOFFSETFROM:-0500
TZOFFSETTO:-0600
RDATE:20221106T020000
RDATE:20231105T020000
END:STANDARD
BEGIN:DAYLIGHT
TZNAME:CDT
DTSTART:20220313T020000
TZOFFSETFROM:-0600
TZOFFSETTO:-0500
RDATE:20230312T020000
END:DAYLIGHT
END:VTIMEZONE
BEGIN:VEVENT
UID:d68f2d39-f75b-472d-a64e-c5f17391b30e
DTSTAMP:20260423T112537Z
DESCRIPTION:
DTSTART;TZID=America/Chicago:20220830T130000
DTEND;TZID=America/Chicago:20220830T150000
LOCATION:2300 173rd Street\, Hammond\, IN 46323 US
SUMMARY:Home School Afternoon Mission
END:VEVENT
END:VCALENDAR
