BEGIN:VCALENDAR
VERSION:2.0
PRODID:-//www.clcnwi.com//NONSGML kigkonsult.se iCalcreator 2.30.10//
CALSCALE:GREGORIAN
METHOD:PUBLISH
UID:f4ab2315-0d05-420e-9471-7aedba54eb40
X-WR-CALDESC:
X-WR-RELCALID:63ecf48b5d60fc0a190bbe3d72ef9a48
X-WR-TIMEZONE:America/Chicago
BEGIN:VTIMEZONE
TZID:America/Chicago
BEGIN:STANDARD
TZNAME:CST
DTSTART:20211107T020000
TZOFFSETFROM:-0500
TZOFFSETTO:-0600
RDATE:20221106T020000
END:STANDARD
BEGIN:DAYLIGHT
TZNAME:CDT
DTSTART:20220313T020000
TZOFFSETFROM:-0600
TZOFFSETTO:-0500
RDATE:20230312T020000
END:DAYLIGHT
END:VTIMEZONE
BEGIN:VEVENT
UID:2e056c2e-3afe-44d7-8b1b-07473a3899df
DTSTAMP:20260423T185918Z
DESCRIPTION:
DTSTART;TZID=America/Chicago:20220318T183000
DTEND;TZID=America/Chicago:20220318T193000
LOCATION:
SUMMARY:Dark Side of the Moon Laser Show 6:30 PM 18+
END:VEVENT
END:VCALENDAR
