BEGIN:VCALENDAR
VERSION:2.0
PRODID:-//www.clcnwi.com//NONSGML kigkonsult.se iCalcreator 2.30.10//
CALSCALE:GREGORIAN
METHOD:PUBLISH
UID:c5d90dde-f317-496e-814e-189b7763d29b
X-WR-CALDESC:
X-WR-RELCALID:d350082f1826d1ee4a854c4e1fe9130e
X-WR-TIMEZONE:America/Chicago
BEGIN:VTIMEZONE
TZID:America/Chicago
BEGIN:STANDARD
TZNAME:CST
DTSTART:20211107T020000
TZOFFSETFROM:-0500
TZOFFSETTO:-0600
RDATE:20221106T020000
END:STANDARD
BEGIN:DAYLIGHT
TZNAME:CDT
DTSTART:20220313T020000
TZOFFSETFROM:-0600
TZOFFSETTO:-0500
RDATE:20230312T020000
END:DAYLIGHT
END:VTIMEZONE
BEGIN:VEVENT
UID:1395a2a2-d3d1-4a89-ab84-8b3a4518b147
DTSTAMP:20260423T185918Z
DESCRIPTION:
DTSTART;TZID=America/Chicago:20220318T170000
DTEND;TZID=America/Chicago:20220318T180000
LOCATION:
SUMMARY:Dark Side of the Moon Laser Show 5 PM 13+
END:VEVENT
END:VCALENDAR
